BEGIN:VCALENDAR
VERSION:2.0
PRODID:-//pretix//Lebtix//
BEGIN:VTIMEZONE
TZID:America/Indiana/Indianapolis
BEGIN:STANDARD
DTSTART:20000101T000000
RRULE:FREQ=YEARLY;BYMONTH=1;UNTIL=20050101T050000Z
TZNAME:EST
TZOFFSETFROM:-0500
TZOFFSETTO:-0500
END:STANDARD
BEGIN:STANDARD
DTSTART:20061029T030000
RRULE:FREQ=YEARLY;BYDAY=5SU;BYMONTH=10;UNTIL=20061029T070000Z
TZNAME:EST
TZOFFSETFROM:-0400
TZOFFSETTO:-0500
END:STANDARD
BEGIN:STANDARD
DTSTART:20071104T030000
RRULE:FREQ=YEARLY;BYDAY=1SU;BYMONTH=11
TZNAME:EST
TZOFFSETFROM:-0400
TZOFFSETTO:-0500
END:STANDARD
BEGIN:DAYLIGHT
DTSTART:20060402T030000
RRULE:FREQ=YEARLY;BYDAY=1SU;BYMONTH=4;UNTIL=20060402T080000Z
TZNAME:EDT
TZOFFSETFROM:-0500
TZOFFSETTO:-0400
END:DAYLIGHT
BEGIN:DAYLIGHT
DTSTART:20070311T030000
RRULE:FREQ=YEARLY;BYDAY=2SU;BYMONTH=3
TZNAME:EDT
TZOFFSETFROM:-0500
TZOFFSETTO:-0400
END:DAYLIGHT
END:VTIMEZONE
BEGIN:VEVENT
UID:pretix-LHSAthletics-FB1106-0@lebtix.us
DTSTART;TZID=America/Indiana/Indianapolis:20201106T190000
DTEND;TZID=America/Indiana/Indianapolis:20201106T200000
DESCRIPTION:Tickets: https://lebtix.us/LHSAthletics/FB1106/\nAdmission: 11/
 06/2020 midnight\nOrganizer: Lebanon High School Athletics
DTSTAMP:20260421T204902Z
LOCATION:Roncalli High School\, 3300 Prague Road\, Indianapolis\, IN 46227
SUMMARY:Football | Sectional | Roncalli v Lebanon
END:VEVENT
END:VCALENDAR
