BEGIN:VCALENDAR
VERSION:2.0
PRODID:-//pretix//Lebtix//
BEGIN:VEVENT
UID:pretix-LHSAthletics-SoccerAlumni24-0@lebtix.us
DTSTART;VALUE=DATE:20240727
DTEND;VALUE=DATE:20240728
DESCRIPTION:Tickets: https://lebtix.us/LHSAthletics/SoccerAlumni24/\nOrgani
 zer: Lebanon High School Athletics
DTSTAMP:20260421T173156Z
LOCATION:LMS Soccer Complex
SUMMARY:Lebanon Soccer Alumni Game
END:VEVENT
END:VCALENDAR
